BEGIN:VCALENDAR
VERSION:2.0
PRODID:-//Temple of the Third Place - ECPv6.15.20//NONSGML v1.0//EN
CALSCALE:GREGORIAN
METHOD:PUBLISH
X-ORIGINAL-URL:https://tottp.org
X-WR-CALDESC:Events for Temple of the Third Place
REFRESH-INTERVAL;VALUE=DURATION:PT1H
X-Robots-Tag:noindex
X-PUBLISHED-TTL:PT1H
BEGIN:VTIMEZONE
TZID:America/Los_Angeles
BEGIN:DAYLIGHT
TZOFFSETFROM:-0800
TZOFFSETTO:-0700
TZNAME:PDT
DTSTART:20250309T100000
END:DAYLIGHT
BEGIN:STANDARD
TZOFFSETFROM:-0700
TZOFFSETTO:-0800
TZNAME:PST
DTSTART:20251102T090000
END:STANDARD
BEGIN:DAYLIGHT
TZOFFSETFROM:-0800
TZOFFSETTO:-0700
TZNAME:PDT
DTSTART:20260308T100000
END:DAYLIGHT
BEGIN:STANDARD
TZOFFSETFROM:-0700
TZOFFSETTO:-0800
TZNAME:PST
DTSTART:20261101T090000
END:STANDARD
BEGIN:DAYLIGHT
TZOFFSETFROM:-0800
TZOFFSETTO:-0700
TZNAME:PDT
DTSTART:20270314T100000
END:DAYLIGHT
BEGIN:STANDARD
TZOFFSETFROM:-0700
TZOFFSETTO:-0800
TZNAME:PST
DTSTART:20271107T090000
END:STANDARD
END:VTIMEZONE
BEGIN:VEVENT
DTSTART;TZID=America/Los_Angeles:20260315T093000
DTEND;TZID=America/Los_Angeles:20260315T113000
DTSTAMP:20260420T131258
CREATED:20260306T001233Z
LAST-MODIFIED:20260306T001233Z
UID:942-1773567000-1773574200@tottp.org
SUMMARY:Sunday Service
DESCRIPTION:  \nJoin us for our next Sunday Service! \nWe invite you to a heartfelt and uplifting Sunday Service\, where we come together to explore texts and shared experiences that align with our doctrine. Through reflection and discussion\, we’ll uncover how these principles can guide us toward our highest selves\, deepen our connection with one another\, and embrace the oneness of the world. All are welcome to be part of this sacred space of growth\, understanding\, and unity. \nOur Sunday Service this month will return to exploring stillness and subtlety in movements with Robison Godlove. \nWe’ll also be providing some warming broth (vegan option also available) and light snacks. \nSpeaker series and discussion \nMeet your event facilitators \nConnect with members and Temple leadership \n  \nReserve your spot here! \n 
URL:https://tottp.org/event/sunday-service-march26/
LOCATION:The Temple\, 1431 Haight Street\, San Francisco\, CA\, 94117\, United States
END:VEVENT
END:VCALENDAR