BEGIN:VCALENDAR
VERSION:2.0
PRODID:-//Temple of the Third Place - ECPv6.15.20//NONSGML v1.0//EN
CALSCALE:GREGORIAN
METHOD:PUBLISH
X-ORIGINAL-URL:https://tottp.org
X-WR-CALDESC:Events for Temple of the Third Place
REFRESH-INTERVAL;VALUE=DURATION:PT1H
X-Robots-Tag:noindex
X-PUBLISHED-TTL:PT1H
BEGIN:VTIMEZONE
TZID:America/Los_Angeles
BEGIN:DAYLIGHT
TZOFFSETFROM:-0800
TZOFFSETTO:-0700
TZNAME:PDT
DTSTART:20250309T100000
END:DAYLIGHT
BEGIN:STANDARD
TZOFFSETFROM:-0700
TZOFFSETTO:-0800
TZNAME:PST
DTSTART:20251102T090000
END:STANDARD
BEGIN:DAYLIGHT
TZOFFSETFROM:-0800
TZOFFSETTO:-0700
TZNAME:PDT
DTSTART:20260308T100000
END:DAYLIGHT
BEGIN:STANDARD
TZOFFSETFROM:-0700
TZOFFSETTO:-0800
TZNAME:PST
DTSTART:20261101T090000
END:STANDARD
BEGIN:DAYLIGHT
TZOFFSETFROM:-0800
TZOFFSETTO:-0700
TZNAME:PDT
DTSTART:20270314T100000
END:DAYLIGHT
BEGIN:STANDARD
TZOFFSETFROM:-0700
TZOFFSETTO:-0800
TZNAME:PST
DTSTART:20271107T090000
END:STANDARD
END:VTIMEZONE
BEGIN:VEVENT
DTSTART;TZID=America/Los_Angeles:20260419T093000
DTEND;TZID=America/Los_Angeles:20260419T113000
DTSTAMP:20260420T180804
CREATED:20260408T161251Z
LAST-MODIFIED:20260411T174436Z
UID:966-1776591000-1776598200@tottp.org
SUMMARY:Sunday Service
DESCRIPTION:Join us for our next Sunday Service! \nWe invite you to a heartfelt and uplifting Sunday Service\, where we come together to explore texts and shared experiences that align with our doctrine. Through reflection and discussion\, we’ll uncover how these principles can guide us toward our highest selves\, deepen our connection with one another\, and embrace the oneness of the world. All are welcome to be part of this sacred space of growth\, understanding\, and unity. \nOur Sunday Service this month will return to exploring stillness and subtlety in movements with Robison Godlove. \nWe’ll also be providing some warming broth (vegan option also available) and light snacks. \nSpeaker series and discussion \nMeet your event facilitators \nConnect with members and Temple leadership \n  \nReserve your spot here! \n 
URL:https://tottp.org/event/sunday-service-apr26/
LOCATION:The Temple\, 1431 Haight Street\, San Francisco\, CA\, 94117\, United States
END:VEVENT
BEGIN:VEVENT
DTSTART;TZID=America/Los_Angeles:20260421T160000
DTEND;TZID=America/Los_Angeles:20260421T200000
DTSTAMP:20260420T180804
CREATED:20260408T161343Z
LAST-MODIFIED:20260408T161359Z
UID:968-1776787200-1776801600@tottp.org
SUMMARY:Womxn’s Integration : Reading Club
DESCRIPTION:  \nWomxn’s Integration Reading Club is a space for womxn-identifying individuals to explore powerful readings that spark deep conversations and self-discovery. Guided by a skilled facilitator\, each session introduces thought-provoking texts designed to inspire\, empower\, and help transform feminine energy into success. Through shared dialogue and reflection\, members support each other in owning their strength\, wisdom\, and personal power. \n🔗 Registration link
URL:https://tottp.org/event/womxns-integration-reading-club-apr26/
LOCATION:The Temple\, 1431 Haight Street\, San Francisco\, CA\, 94117\, United States
ORGANIZER;CN="Temple of the Third Place":MAILTO:templeofthethirdplace@gmail.com
END:VEVENT
BEGIN:VEVENT
DTSTART;TZID=America/Los_Angeles:20260426T110000
DTEND;TZID=America/Los_Angeles:20260426T150000
DTSTAMP:20260420T180804
CREATED:20260408T161115Z
LAST-MODIFIED:20260408T161115Z
UID:964-1777201200-1777215600@tottp.org
SUMMARY:A Walk in the Park
DESCRIPTION:  \nJoin us for a leisurely walk through Buena Vista Park\, reflecting and connecting with nature. \nPlease reserve your tickets here! \n 
URL:https://tottp.org/event/a-walk-in-the-park-apr26/
LOCATION:The Temple\, 1431 Haight Street\, San Francisco\, CA\, 94117\, United States
ORGANIZER;CN="Temple of the Third Place":MAILTO:templeofthethirdplace@gmail.com
END:VEVENT
BEGIN:VEVENT
DTSTART;TZID=America/Los_Angeles:20260428T180000
DTEND;TZID=America/Los_Angeles:20260428T193000
DTSTAMP:20260420T180804
CREATED:20260408T160851Z
LAST-MODIFIED:20260408T160851Z
UID:957-1777399200-1777404600@tottp.org
SUMMARY:Men's Group
DESCRIPTION:  \nTuesday\, April 28th! \nJoin us for a supportive and open conversation. We’ll explore the unique challenges men face\, from societal stigmas to the pressures of identity and masculinity. This is a safe space for men to express vulnerability and hold compassion for one another. This is a chance to be in an emotionally supportive community with other men and to share your experiences openly. \nWe look forward to connecting with you for this event\, whether in person or online. Reserve your spot below for entry or zoom link upon start of the event. \nTickets here! \n 
URL:https://tottp.org/event/mens-group-april26/
LOCATION:The Temple\, 1431 Haight Street\, San Francisco\, CA\, 94117\, United States
ORGANIZER;CN="Temple of the Third Place":MAILTO:templeofthethirdplace@gmail.com
END:VEVENT
END:VCALENDAR