BEGIN:VCALENDAR
VERSION:2.0
PRODID:-//Temple of the Third Place - ECPv6.15.20//NONSGML v1.0//EN
CALSCALE:GREGORIAN
METHOD:PUBLISH
X-WR-CALNAME:Temple of the Third Place
X-ORIGINAL-URL:https://tottp.org
X-WR-CALDESC:Events for Temple of the Third Place
REFRESH-INTERVAL;VALUE=DURATION:PT1H
X-Robots-Tag:noindex
X-PUBLISHED-TTL:PT1H
BEGIN:VTIMEZONE
TZID:America/Los_Angeles
BEGIN:DAYLIGHT
TZOFFSETFROM:-0800
TZOFFSETTO:-0700
TZNAME:PDT
DTSTART:20240310T100000
END:DAYLIGHT
BEGIN:STANDARD
TZOFFSETFROM:-0700
TZOFFSETTO:-0800
TZNAME:PST
DTSTART:20241103T090000
END:STANDARD
BEGIN:DAYLIGHT
TZOFFSETFROM:-0800
TZOFFSETTO:-0700
TZNAME:PDT
DTSTART:20250309T100000
END:DAYLIGHT
BEGIN:STANDARD
TZOFFSETFROM:-0700
TZOFFSETTO:-0800
TZNAME:PST
DTSTART:20251102T090000
END:STANDARD
BEGIN:DAYLIGHT
TZOFFSETFROM:-0800
TZOFFSETTO:-0700
TZNAME:PDT
DTSTART:20260308T100000
END:DAYLIGHT
BEGIN:STANDARD
TZOFFSETFROM:-0700
TZOFFSETTO:-0800
TZNAME:PST
DTSTART:20261101T090000
END:STANDARD
END:VTIMEZONE
BEGIN:VEVENT
DTSTART;TZID=America/Los_Angeles:20250608T030000
DTEND;TZID=America/Los_Angeles:20250608T050000
DTSTAMP:20260420T215831
CREATED:20250531T222626Z
LAST-MODIFIED:20250531T222626Z
UID:754-1749351600-1749358800@tottp.org
SUMMARY:Sunday Service
DESCRIPTION:Join us as we continue our monthly series: Sunday Service! \nWe invite you to a heartfelt and uplifting Sunday Service\, where we come together to explore texts and shared experiences that align with our doctrine. Through reflection and discussion\, we’ll uncover how these principles can guide us toward our highest selves\, deepen our connection with one another\, and embrace the oneness of the world. All are welcome to be part of this sacred space of growth\, understanding\, and unity. \n  \nSpeaker series and discussion \nMeet your event facilitators \nConnect with members and Temple leadership \nBeverages and snacks provided! \n  \nRSVP today! \n 
URL:https://tottp.org/event/sunday-service-june/
LOCATION:The Temple\, 1431 Haight Street\, San Francisco\, CA\, 94117\, United States
END:VEVENT
BEGIN:VEVENT
DTSTART;TZID=America/Los_Angeles:20250603T090000
DTEND;TZID=America/Los_Angeles:20250603T130000
DTSTAMP:20260420T215831
CREATED:20250531T221852Z
LAST-MODIFIED:20250531T221920Z
UID:748-1748941200-1748955600@tottp.org
SUMMARY:Elixirs and Epiphanies
DESCRIPTION:Discover plant alchemy! Learn to craft tinctures with intention. Connect\, create\, and find your remedy \n \nStep into a circle where earth meets essence\, where the ancient wisdom of plants finds its voice in your hands. In this gathering\, we will gently demystify the craft of tinctures\, not with haste\, but with heart— guiding you through the quiet alchemy of turning leaves and roots into remedies that remember where they came from. You’ll blend\, bottle\, and breathe with intention\, creating a tincture that is wholly your own— a remedy born of curiosity\, care\, and communion. This is more than a workshop. It is a return. A space to connect with kindred souls— makers\, mystics\, and those who feel the whisper of plants in their bones. No experience needed. Bring your wonder (and a mason jar) We’ll take it from there—together \nRegister Here!
URL:https://tottp.org/event/elixirs-and-epiphanies/
LOCATION:The Temple\, 1431 Haight Street\, San Francisco\, CA\, 94117\, United States
END:VEVENT
BEGIN:VEVENT
DTSTART;TZID=America/Los_Angeles:20250527T160000
DTEND;TZID=America/Los_Angeles:20250527T200000
DTSTAMP:20260420T215831
CREATED:20250427T042340Z
LAST-MODIFIED:20250513T212046Z
UID:687-1748361600-1748376000@tottp.org
SUMMARY:Womxn’s Integration : Reading Club
DESCRIPTION:  \nNew Date Alert! \nWomxn’s Integration Reading Club is a space for womxn-identifying individuals to explore powerful readings that spark deep conversations and self-discovery. Guided by a skilled facilitator\, each session introduces thought-provoking texts designed to inspire\, empower\, and help transform feminine energy into success. Through shared dialogue and reflection\, members support each other in owning their strength\, wisdom\, and personal power. \n🔗 Register Here
URL:https://tottp.org/event/womxns-integration-reading-club-may/
LOCATION:The Temple\, 1431 Haight Street\, San Francisco\, CA\, 94117\, United States
ORGANIZER;CN="Temple of the Third Place":MAILTO:templeofthethirdplace@gmail.com
END:VEVENT
BEGIN:VEVENT
DTSTART;TZID=America/Los_Angeles:20250525T110000
DTEND;TZID=America/Los_Angeles:20250525T160000
DTSTAMP:20260420T215831
CREATED:20250513T222234Z
LAST-MODIFIED:20250513T222234Z
UID:738-1748170800-1748188800@tottp.org
SUMMARY:A Walk in the Park
DESCRIPTION:Register Here! \n \nJoin us for a leisurely walk through Golden Gate Park\, connecting with nature and community. \n 
URL:https://tottp.org/event/a-walk-in-the-park-may/
LOCATION:The Temple\, 1431 Haight Street\, San Francisco\, CA\, 94117\, United States
ORGANIZER;CN="Temple of the Third Place":MAILTO:templeofthethirdplace@gmail.com
END:VEVENT
BEGIN:VEVENT
DTSTART;TZID=America/Los_Angeles:20250520T090000
DTEND;TZID=America/Los_Angeles:20250520T130000
DTSTAMP:20260420T215831
CREATED:20250427T045752Z
LAST-MODIFIED:20250513T212118Z
UID:690-1747731600-1747746000@tottp.org
SUMMARY:CREATIVE EXPRESSIONS : ART NIGHT : ZINE MAKING
DESCRIPTION:NEW DATE! \nJoin us for an experience designed to guide you back to yourself through the power of art and creative expression. This immersive gathering offers a welcoming space where you can slow down\, reconnect with yourself\, and explore your emotions through intuitive creation. Whether you’re an experienced artist or simply curious\, we encourage you to let go of expectations and embrace the joy of the process in community. \nThis edition of CREATIVE EXPRESSIONS : ART NIGHT is all about zine-making. A zine (short for magazine or fanzine) is a small\, self-published booklet made using anything from drawings and collage to poetry\, photography\, and handwritten notes. Essentially creating a story that represents your voice and what you want to put out in the community. There are no rules—just your voice\, your story\, and your vision on the page. Zines have long been a tool for self-expression\, activism\, storytelling\, and reflection. \nIf you enjoy programming like this and want to see more of it\, we ask that you consider donating toward the cost\, continuance\, and growth of projects like this. Your support helps keep these creative spaces alive and accessible. We thank you for being apart of our community. \nRegister Here!
URL:https://tottp.org/event/creative-expressions-art-night-zine-making/
LOCATION:The Temple\, 1431 Haight Street\, San Francisco\, CA\, 94117\, United States
END:VEVENT
BEGIN:VEVENT
DTSTART;TZID=America/Los_Angeles:20250518T030000
DTEND;TZID=America/Los_Angeles:20250518T050000
DTSTAMP:20260420T215831
CREATED:20250513T222349Z
LAST-MODIFIED:20250517T005003Z
UID:742-1747537200-1747544400@tottp.org
SUMMARY:Sunday Service
DESCRIPTION:Join us as we continue our monthly series: Sunday Service! \nWe invite you to a heartfelt and uplifting Sunday Service\, where we come together to explore texts and shared experiences that align with our doctrine. Through reflection and discussion\, we’ll uncover how these principles can guide us toward our highest selves\, deepen our connection with one another\, and embrace the oneness of the world. All are welcome to be part of this sacred space of growth\, understanding\, and unity. \n  \nSpeaker series and discussion \nMeet your event facilitators \nConnect with members and Temple leadership \nBeverages and snacks provided! \n  \nLink just added 5/16 – RSVP today! \n 
URL:https://tottp.org/event/sunday-service-may/
LOCATION:The Temple\, 1431 Haight Street\, San Francisco\, CA\, 94117\, United States
END:VEVENT
BEGIN:VEVENT
DTSTART;TZID=America/Los_Angeles:20250427T110000
DTEND;TZID=America/Los_Angeles:20250427T160000
DTSTAMP:20260420T215831
CREATED:20250416T065735Z
LAST-MODIFIED:20250416T065808Z
UID:684-1745751600-1745769600@tottp.org
SUMMARY:A Walk in the Park
DESCRIPTION:Register Here! \n \nJoin us for a leisurely walk through Golden Gate Park\, connecting with nature and community. \n 
URL:https://tottp.org/event/a-walk-in-the-park-april/
LOCATION:The Temple\, 1431 Haight Street\, San Francisco\, CA\, 94117\, United States
ORGANIZER;CN="Temple of the Third Place":MAILTO:templeofthethirdplace@gmail.com
END:VEVENT
BEGIN:VEVENT
DTSTART;TZID=America/Los_Angeles:20250415T160000
DTEND;TZID=America/Los_Angeles:20250415T200000
DTSTAMP:20260420T215831
CREATED:20250404T043112Z
LAST-MODIFIED:20250404T051131Z
UID:679-1744732800-1744747200@tottp.org
SUMMARY:Womxn’s Integration : Reading Club
DESCRIPTION:Womxn’s Integration Reading Club is a space for womxn-identifying individuals to explore powerful readings that spark deep conversations and self-discovery. Guided by a skilled facilitator\, each session introduces thought-provoking texts designed to inspire\, empower\, and help transform feminine energy into success. Through shared dialogue and reflection\, members support each other in owning their strength\, wisdom\, and personal power. \n🔗 Register Here
URL:https://tottp.org/event/womxns-integration-reading-club-april/
LOCATION:The Temple\, 1431 Haight Street\, San Francisco\, CA\, 94117\, United States
ORGANIZER;CN="Temple of the Third Place":MAILTO:templeofthethirdplace@gmail.com
END:VEVENT
BEGIN:VEVENT
DTSTART;TZID=America/Los_Angeles:20250413T030000
DTEND;TZID=America/Los_Angeles:20250413T050000
DTSTAMP:20260420T215831
CREATED:20250322T142913Z
LAST-MODIFIED:20250404T041730Z
UID:668-1744513200-1744520400@tottp.org
SUMMARY:Sunday Service
DESCRIPTION:Join us for the start of our monthly series: Sunday Service! \nWe invite you to a heartfelt and uplifting Sunday Service\, where we come together to explore texts and shared experiences that align with our doctrine. Through reflection and discussion\, we’ll uncover how these principles can guide us toward our highest selves\, deepen our connection with one another\, and embrace the oneness of the world. All are welcome to be part of this sacred space of growth\, understanding\, and unity. \n  \nSpeaker series and discussion \nMeet your event facilitators \nConnect with members and Temple leadership \nBeverages and snacks provided! \n 
URL:https://tottp.org/event/sunday-service-april13/
LOCATION:The Temple\, 1431 Haight Street\, San Francisco\, CA\, 94117\, United States
END:VEVENT
BEGIN:VEVENT
DTSTART;TZID=America/Los_Angeles:20250330T130000
DTEND;TZID=America/Los_Angeles:20250330T180000
DTSTAMP:20260420T215831
CREATED:20250322T140430Z
LAST-MODIFIED:20250322T140430Z
UID:664-1743339600-1743357600@tottp.org
SUMMARY:A Walk in the Park
DESCRIPTION:Register Here! \n \nJoin us for a leisurely walk through Golden Gate Park\, connecting with nature and community. \n 
URL:https://tottp.org/event/nature-walk-in-the-park-march/
LOCATION:The Temple\, 1431 Haight Street\, San Francisco\, CA\, 94117\, United States
ORGANIZER;CN="Temple of the Third Place":MAILTO:templeofthethirdplace@gmail.com
END:VEVENT
BEGIN:VEVENT
DTSTART;TZID=America/Los_Angeles:20250318T160000
DTEND;TZID=America/Los_Angeles:20250318T200000
DTSTAMP:20260420T215831
CREATED:20250305T023816Z
LAST-MODIFIED:20250305T023816Z
UID:657-1742313600-1742328000@tottp.org
SUMMARY:Womxn’s Integration : Reading Club
DESCRIPTION:Womxn’s Integration Reading Club is a space for womxn-identifying individuals to explore powerful readings that spark deep conversations and self-discovery. Guided by a skilled facilitator\, each session introduces thought-provoking texts designed to inspire\, empower\, and help transform feminine energy into success. Through shared dialogue and reflection\, members support each other in owning their strength\, wisdom\, and personal power. \n🔗 Register Here
URL:https://tottp.org/event/womxns-integration/
LOCATION:The Temple\, 1431 Haight Street\, San Francisco\, CA\, 94117\, United States
ORGANIZER;CN="Temple of the Third Place":MAILTO:templeofthethirdplace@gmail.com
END:VEVENT
BEGIN:VEVENT
DTSTART;TZID=America/Los_Angeles:20250227T140000
DTEND;TZID=America/Los_Angeles:20250227T190000
DTSTAMP:20260420T215831
CREATED:20250206T063820Z
LAST-MODIFIED:20250207T104800Z
UID:615-1740664800-1740682800@tottp.org
SUMMARY:A Walk in the Park
DESCRIPTION:Register Here! \n \nJoin us for a leaisurely walk through Golden Gate Park\, connecting with the energy of the Third Place through nature. \n 
URL:https://tottp.org/event/a-walk-in-the-park/
LOCATION:The Temple\, 1431 Haight Street\, San Francisco\, CA\, 94117\, United States
ORGANIZER;CN="Temple of the Third Place":MAILTO:templeofthethirdplace@gmail.com
END:VEVENT
BEGIN:VEVENT
DTSTART;TZID=America/Los_Angeles:20250216T120000
DTEND;TZID=America/Los_Angeles:20250216T200000
DTSTAMP:20260420T215831
CREATED:20250127T092058Z
LAST-MODIFIED:20250305T023902Z
UID:585-1739707200-1739736000@tottp.org
SUMMARY:Community Wellness Day
DESCRIPTION:Reserve Your Spot Here!\n\nJoin us this February 16th for a day of massages\, b-12 shots\, tea and community discussions.\n 
URL:https://tottp.org/event/wellness-day-1/
LOCATION:The Temple\, 1431 Haight Street\, San Francisco\, CA\, 94117\, United States
ORGANIZER;CN="Temple of the Third Place":MAILTO:templeofthethirdplace@gmail.com
END:VEVENT
END:VCALENDAR